BEGIN:VCALENDAR
VERSION:2.0
PRODID:-//Jewish Vocational Service - ECPv6.15.20//NONSGML v1.0//EN
CALSCALE:GREGORIAN
METHOD:PUBLISH
X-ORIGINAL-URL:https://jvskc.org
X-WR-CALDESC:Events for Jewish Vocational Service
REFRESH-INTERVAL;VALUE=DURATION:PT1H
X-Robots-Tag:noindex
X-PUBLISHED-TTL:PT1H
BEGIN:VTIMEZONE
TZID:America/Chicago
BEGIN:DAYLIGHT
TZOFFSETFROM:-0600
TZOFFSETTO:-0500
TZNAME:CDT
DTSTART:20190310T080000
END:DAYLIGHT
BEGIN:STANDARD
TZOFFSETFROM:-0500
TZOFFSETTO:-0600
TZNAME:CST
DTSTART:20191103T070000
END:STANDARD
BEGIN:DAYLIGHT
TZOFFSETFROM:-0600
TZOFFSETTO:-0500
TZNAME:CDT
DTSTART:20200308T080000
END:DAYLIGHT
BEGIN:STANDARD
TZOFFSETFROM:-0500
TZOFFSETTO:-0600
TZNAME:CST
DTSTART:20201101T070000
END:STANDARD
BEGIN:DAYLIGHT
TZOFFSETFROM:-0600
TZOFFSETTO:-0500
TZNAME:CDT
DTSTART:20210314T080000
END:DAYLIGHT
BEGIN:STANDARD
TZOFFSETFROM:-0500
TZOFFSETTO:-0600
TZNAME:CST
DTSTART:20211107T070000
END:STANDARD
END:VTIMEZONE
BEGIN:VEVENT
DTSTART;TZID=America/Chicago:20200915T183000
DTEND;TZID=America/Chicago:20200915T200000
DTSTAMP:20260423T145243
CREATED:20200909T193051Z
LAST-MODIFIED:20200909T193607Z
UID:3328-1600194600-1600200000@jvskc.org
SUMMARY:JVS Virtual Trivia Benefit-Creating a Home Together!
DESCRIPTION:Join us for our JVS Young Professionals Board virtual Trivia Night! \nRegister  for TRIVIA  \nAll are welcome to join in this benefit event during Welcoming Week with the theme of Creating Home Together!  \nParticipants will join or create virtual teams of 6-10 members participating in 5 rounds of varying categories ranging from pop culture\, Kansas City knowledge to history and citizenship. Come be a part of this fun event with friends or meet new people from the safety of your home! Sponsorship opportunities are also available for teams.  \nIndividual Trivia participant-$15 \nTrivia Sponsor (team of 6-10 people and recognition)-$250 \nTo learn more about becoming a sponsor contact mkimmel@jvskc.org or register today. Thank you to our sponsors to-date:  \n Andrea and Robert Baran \nJay and Madeline Benjamin \nJames Ellis \nRev. Dr. Robert Lee Hill \nBill Intrater \nThe Kaseff Family \nPrier Products\, Poskin and Isenberg Family \nDon Wise \nYou can help provide support to the thousands of JVS clients across the city by making services like counseling\, workforce development and support for newly arrived refugees. During the COVID-19 outbreak\, your support translates to counseling services\, food insecurity support and more for people affected by job loss and more because of the pandemic.
URL:https://jvskc.org/calendar/jvs-virtual-trivia-benefit-creating-a-home-together/
ORGANIZER;CN="JVS":MAILTO:info@jvskc.org
END:VEVENT
END:VCALENDAR