BEGIN:VCALENDAR
VERSION:2.0
PRODID:-//Jewish Vocational Service - ECPv6.15.20//NONSGML v1.0//EN
CALSCALE:GREGORIAN
METHOD:PUBLISH
X-WR-CALNAME:Jewish Vocational Service
X-ORIGINAL-URL:https://jvskc.org
X-WR-CALDESC:Events for Jewish Vocational Service
REFRESH-INTERVAL;VALUE=DURATION:PT1H
X-Robots-Tag:noindex
X-PUBLISHED-TTL:PT1H
BEGIN:VTIMEZONE
TZID:America/Chicago
BEGIN:DAYLIGHT
TZOFFSETFROM:-0600
TZOFFSETTO:-0500
TZNAME:CDT
DTSTART:20240310T080000
END:DAYLIGHT
BEGIN:STANDARD
TZOFFSETFROM:-0500
TZOFFSETTO:-0600
TZNAME:CST
DTSTART:20241103T070000
END:STANDARD
BEGIN:DAYLIGHT
TZOFFSETFROM:-0600
TZOFFSETTO:-0500
TZNAME:CDT
DTSTART:20250309T080000
END:DAYLIGHT
BEGIN:STANDARD
TZOFFSETFROM:-0500
TZOFFSETTO:-0600
TZNAME:CST
DTSTART:20251102T070000
END:STANDARD
BEGIN:DAYLIGHT
TZOFFSETFROM:-0600
TZOFFSETTO:-0500
TZNAME:CDT
DTSTART:20260308T080000
END:DAYLIGHT
BEGIN:STANDARD
TZOFFSETFROM:-0500
TZOFFSETTO:-0600
TZNAME:CST
DTSTART:20261101T070000
END:STANDARD
END:VTIMEZONE
BEGIN:VEVENT
DTSTART;TZID=America/Chicago:20250822T080000
DTEND;TZID=America/Chicago:20250822T170000
DTSTAMP:20260422T231113
CREATED:20250814T181405Z
LAST-MODIFIED:20250814T185622Z
UID:5794-1755849600-1755882000@jvskc.org
SUMMARY: JVS Give Back Day at Tiki Taco
DESCRIPTION: JVS Give Back Day at Tiki Taco\nWhat’s for dinner?”  The JVS Young Professional Board has you covered!  On August 22\, visit any area Tiki Taco location\, mention JVS when you order\, and 20% of your entire purchase will benefit JVS.\nUse code JVSKC when ordering online (not available through meal delivery apps).
URL:https://jvskc.org/calendar/5794/
END:VEVENT
END:VCALENDAR