BEGIN:VCALENDAR
VERSION:2.0
PRODID:-//Jewish Vocational Service - ECPv6.15.20//NONSGML v1.0//EN
CALSCALE:GREGORIAN
METHOD:PUBLISH
X-WR-CALNAME:Jewish Vocational Service
X-ORIGINAL-URL:https://jvskc.org
X-WR-CALDESC:Events for Jewish Vocational Service
REFRESH-INTERVAL;VALUE=DURATION:PT1H
X-Robots-Tag:noindex
X-PUBLISHED-TTL:PT1H
BEGIN:VTIMEZONE
TZID:America/Chicago
BEGIN:DAYLIGHT
TZOFFSETFROM:-0600
TZOFFSETTO:-0500
TZNAME:CDT
DTSTART:20240310T080000
END:DAYLIGHT
BEGIN:STANDARD
TZOFFSETFROM:-0500
TZOFFSETTO:-0600
TZNAME:CST
DTSTART:20241103T070000
END:STANDARD
BEGIN:DAYLIGHT
TZOFFSETFROM:-0600
TZOFFSETTO:-0500
TZNAME:CDT
DTSTART:20250309T080000
END:DAYLIGHT
BEGIN:STANDARD
TZOFFSETFROM:-0500
TZOFFSETTO:-0600
TZNAME:CST
DTSTART:20251102T070000
END:STANDARD
BEGIN:DAYLIGHT
TZOFFSETFROM:-0600
TZOFFSETTO:-0500
TZNAME:CDT
DTSTART:20260308T080000
END:DAYLIGHT
BEGIN:STANDARD
TZOFFSETFROM:-0500
TZOFFSETTO:-0600
TZNAME:CST
DTSTART:20261101T070000
END:STANDARD
END:VTIMEZONE
BEGIN:VEVENT
DTSTART;TZID=America/Chicago:20250621T090000
DTEND;TZID=America/Chicago:20250802T153000
DTSTAMP:20260420T011634
CREATED:20250604T154055Z
LAST-MODIFIED:20250604T154404Z
UID:5634-1750496400-1754148600@jvskc.org
SUMMARY:Bridging the Gap
DESCRIPTION:Unlock your potential as a healthcare interpreter with Bridging the Gap™! This certified program opens doors to diverse opportunities in various healthcare settings. \nWhether you're aiming to start your career or pursue national certification in medical interpreting\, this class equips you with the essential skills and knowledge to thrive as an interpreter in the healthcare industry. \nJoin us and embark on a fulfilling journey towards making a meaningful difference in peoples’ lives! \nSummer Sessions: \nSaturdays\, Jun. 21 – Aug. 2 \nOR :  \nAug. 30 – Oct. 11 9:00 a.m.-3:30 p.m.
URL:https://jvskc.org/calendar/bridging-the-gap/
END:VEVENT
BEGIN:VEVENT
DTSTART;TZID=America/Chicago:20250725T190000
DTEND;TZID=America/Chicago:20250725T203000
DTSTAMP:20260420T011634
CREATED:20250707T223304Z
LAST-MODIFIED:20250707T223304Z
UID:5766-1753470000-1753475400@jvskc.org
SUMMARY:JVS Young Professionals Board HamBingo Event
DESCRIPTION:Join the JVS Young Professionals Board for an evening of good food and good times\, all for a great cause!  Dust off your bingo skills for multiple chances to win fun game prizes as well as valuable raffle prizes.  All proceeds from the purchase of bingo cards and raffle tickets support JVS. \n Call Hamburger Mary's today to reserve your seats.  816-842-1919 \nThe first round of bingo will start at 7:00 p.m.\, but feel free to arrive early to enjoy dinner. \n 
URL:https://jvskc.org/calendar/jvs-young-professionals-board-hambingo-event-2/
LOCATION:Hamburger Mary’s\, 3700 Broadway\, Kansas City\, Mo\, 64111
ORGANIZER;CN="JVS":MAILTO:info@jvskc.org
END:VEVENT
END:VCALENDAR